BEGIN:VCALENDAR
VERSION:2.0
PRODID:-//Zen Meditation Stuttgart - ECPv6.15.20//NONSGML v1.0//EN
CALSCALE:GREGORIAN
METHOD:PUBLISH
X-WR-CALNAME:Zen Meditation Stuttgart
X-ORIGINAL-URL:https://zendojostuttgart.de
X-WR-CALDESC:Veranstaltungen für Zen Meditation Stuttgart
REFRESH-INTERVAL;VALUE=DURATION:PT1H
X-Robots-Tag:noindex
X-PUBLISHED-TTL:PT1H
BEGIN:VTIMEZONE
TZID:Europe/Berlin
BEGIN:DAYLIGHT
TZOFFSETFROM:+0100
TZOFFSETTO:+0200
TZNAME:CEST
DTSTART:20250330T010000
END:DAYLIGHT
BEGIN:STANDARD
TZOFFSETFROM:+0200
TZOFFSETTO:+0100
TZNAME:CET
DTSTART:20251026T010000
END:STANDARD
BEGIN:DAYLIGHT
TZOFFSETFROM:+0100
TZOFFSETTO:+0200
TZNAME:CEST
DTSTART:20260329T010000
END:DAYLIGHT
BEGIN:STANDARD
TZOFFSETFROM:+0200
TZOFFSETTO:+0100
TZNAME:CET
DTSTART:20261025T010000
END:STANDARD
BEGIN:DAYLIGHT
TZOFFSETFROM:+0100
TZOFFSETTO:+0200
TZNAME:CEST
DTSTART:20270328T010000
END:DAYLIGHT
BEGIN:STANDARD
TZOFFSETFROM:+0200
TZOFFSETTO:+0100
TZNAME:CET
DTSTART:20271031T010000
END:STANDARD
END:VTIMEZONE
BEGIN:VEVENT
DTSTART;TZID=Europe/Berlin:20260508T173000
DTEND;TZID=Europe/Berlin:20260508T183000
DTSTAMP:20260424T130002
CREATED:20251115T061323Z
LAST-MODIFIED:20251115T061323Z
UID:3307-1778261400-1778265000@zendojostuttgart.de
SUMMARY:Einführung in Zazen
DESCRIPTION:Regelmäßig jeden Monat am ersten Freitag finden praktische Einführungen statt. Besondere Vorkenntnisse sind nicht erforderlich. Bitte dunkle\, bequeme Kleidung mitbringen. Nach der Einführung besteht die Möglichkeit am regulären Zazen teilzunehmen.
URL:https://zendojostuttgart.de/event/einfuehrung-in-zazen-193/
LOCATION:Ho Ryu Zen-Dojo Stuttgart\, Silberburgstr. 62a - Rückgebäude\, Stuttgart\, Baden-Württemberg\, 70176\, Deutschland
CATEGORIES:Zazen-Einführung
END:VEVENT
BEGIN:VEVENT
DTSTART;TZID=Europe/Berlin:20260510T100000
DTEND;TZID=Europe/Berlin:20260510T173000
DTSTAMP:20260424T130002
CREATED:20260418T143751Z
LAST-MODIFIED:20260418T143821Z
UID:3322-1778407200-1778434200@zendojostuttgart.de
SUMMARY:Vesakh-Fest im Lindenmuseum Stuttgart
DESCRIPTION:Am Sonntag\, 10. Mai 2026 feiern wir zusammen mit anderen Stuttgarter Gruppen im Lindenmuseum Vesakh\, das wichtigste buddhistische Fest.\nHier findet ihr das Programm: https://lindenmuseum.de/vesakh/
URL:https://zendojostuttgart.de/event/vesakh-fest-im-lindenmuseum-stuttgart/
LOCATION:Lindenmuseum\, Hegelplatz 1\, 70174 Stuttgart\, Baden-Württemberg\, 70174
CATEGORIES:Vesakh
ATTACH;FMTTYPE=image/jpeg:https://zendojostuttgart.de/wp-content/uploads/2026/04/Vesakh_Instagram_2.jpg
END:VEVENT
BEGIN:VEVENT
DTSTART;TZID=Europe/Berlin:20260612T173000
DTEND;TZID=Europe/Berlin:20260612T183000
DTSTAMP:20260424T130002
CREATED:20251115T061325Z
LAST-MODIFIED:20251115T061325Z
UID:3308-1781285400-1781289000@zendojostuttgart.de
SUMMARY:Einführung in Zazen
DESCRIPTION:Regelmäßig jeden Monat am ersten Freitag finden praktische Einführungen statt. Besondere Vorkenntnisse sind nicht erforderlich. Bitte dunkle\, bequeme Kleidung mitbringen. Nach der Einführung besteht die Möglichkeit am regulären Zazen teilzunehmen.
URL:https://zendojostuttgart.de/event/einfuehrung-in-zazen-194/
LOCATION:Ho Ryu Zen-Dojo Stuttgart\, Silberburgstr. 62a - Rückgebäude\, Stuttgart\, Baden-Württemberg\, 70176\, Deutschland
CATEGORIES:Zazen-Einführung
END:VEVENT
END:VCALENDAR