BEGIN:VCALENDAR
VERSION:2.0
PRODID:-//Zen Meditation Stuttgart - ECPv6.15.20//NONSGML v1.0//EN
CALSCALE:GREGORIAN
METHOD:PUBLISH
X-WR-CALNAME:Zen Meditation Stuttgart
X-ORIGINAL-URL:https://zendojostuttgart.de
X-WR-CALDESC:Veranstaltungen für Zen Meditation Stuttgart
REFRESH-INTERVAL;VALUE=DURATION:PT1H
X-Robots-Tag:noindex
X-PUBLISHED-TTL:PT1H
BEGIN:VTIMEZONE
TZID:Europe/Berlin
BEGIN:DAYLIGHT
TZOFFSETFROM:+0100
TZOFFSETTO:+0200
TZNAME:CEST
DTSTART:20240331T010000
END:DAYLIGHT
BEGIN:STANDARD
TZOFFSETFROM:+0200
TZOFFSETTO:+0100
TZNAME:CET
DTSTART:20241027T010000
END:STANDARD
BEGIN:DAYLIGHT
TZOFFSETFROM:+0100
TZOFFSETTO:+0200
TZNAME:CEST
DTSTART:20250330T010000
END:DAYLIGHT
BEGIN:STANDARD
TZOFFSETFROM:+0200
TZOFFSETTO:+0100
TZNAME:CET
DTSTART:20251026T010000
END:STANDARD
BEGIN:DAYLIGHT
TZOFFSETFROM:+0100
TZOFFSETTO:+0200
TZNAME:CEST
DTSTART:20260329T010000
END:DAYLIGHT
BEGIN:STANDARD
TZOFFSETFROM:+0200
TZOFFSETTO:+0100
TZNAME:CET
DTSTART:20261025T010000
END:STANDARD
END:VTIMEZONE
BEGIN:VEVENT
DTSTART;TZID=Europe/Berlin:20251109T163000
DTEND;TZID=Europe/Berlin:20251109T183000
DTSTAMP:20260424T220859
CREATED:20250513T183503Z
LAST-MODIFIED:20251012T152056Z
UID:3252-1762705800-1762713000@zendojostuttgart.de
SUMMARY:Einführung in Zazen
DESCRIPTION:Regelmäßig jeden Monat finden praktische Einführungen in Zazen statt. Besondere Vorkenntnisse sind nicht erforderlich. Bitte dunkle\, bequeme Kleidung mitbringen. Nach der Einführung besteht die Möglichkeit am regulären Zazen teilzunehmen.
URL:https://zendojostuttgart.de/event/einfuehrung-in-zazen-185/
LOCATION:Ho Ryu Zen-Dojo Stuttgart\, Silberburgstr. 62a - Rückgebäude\, Stuttgart\, Baden-Württemberg\, 70176\, Deutschland
CATEGORIES:Zazen-Einführung
END:VEVENT
BEGIN:VEVENT
DTSTART;TZID=Europe/Berlin:20251122T173000
DTEND;TZID=Europe/Berlin:20251122T183000
DTSTAMP:20260424T220859
CREATED:20250909T094450Z
LAST-MODIFIED:20250909T094450Z
UID:3288-1763832600-1763836200@zendojostuttgart.de
SUMMARY:Einführung in Zazen
DESCRIPTION:
URL:https://zendojostuttgart.de/event/einfuehrung-in-zazen-188/
LOCATION:Baden-Württemberg
CATEGORIES:Zazen-Einführung
END:VEVENT
BEGIN:VEVENT
DTSTART;TZID=Europe/Berlin:20251123T080000
DTEND;TZID=Europe/Berlin:20251123T170000
DTSTAMP:20260424T220859
CREATED:20250909T094233Z
LAST-MODIFIED:20250909T102640Z
UID:3284-1763884800-1763917200@zendojostuttgart.de
SUMMARY:Zazentag mit Zen-Mönch Konrad Tenkan Beck
DESCRIPTION:Flyer Zazentag 23-11-25 \nEine Einführung in die Zen-Meditation findet am Vorabend um 17.30 Uhr statt \nUnkostenbeitrag: 30 € / ermäßigt 15 € \nAnmeldung: \ninfo@zendojostuttgart.de oder 0176 55 70 36 74  /  0171 513 46 23 \nProgramm: \nDer Tagesablauf besteht wie bei einem Sesshin im Tempel aus Zazen\, Zeremonie\, Unterweisung\, gemeinsame vegetarische Mahlzeiten\, gemeinschaftliche Arbeit\, z.B. in der Küche\, und Pausenzeiten\, in denen man sich ausruhen und austauschen kann. \nMitbringen: \nKimono oder dunkle\, bequeme Kleidung\, Hausschuhe\, evtl. warme Socken\, Zafu\, eine Decke als Unterlage (Holzfußboden)\, Essschale mit Besteck und ein (Geschirr)-Tuch\, um die Schale einzuwickeln. \n\n\nLeitung: \n\n\n\n\n\n\n\n\nTenkan Konrad Beck begann seine Praxis unter Meister Deshimaru. Seit 1988 ist er Zen-Mönch (shukke tokudo). \nEr gründete das Zen-Dojo Freiburg\, das er bis 2009 leitete. Seitdem lebt er in der Nähe von Nürnberg. \n2011 erhielt er die Dharma-Weitergabe (shiho) von Meister Olivier Reigen Wang- Genh. 2012 und 2013 vertiefte er seine Ausbildung in den japanischen Tempeln Shogoji und Chosenji. \nEr ist Tanto (Assistent des Meisters) im Kloster Tai Kosan Ryumonji im Elsass und einer der Verantwortlichen der zen- buddhistischen Gruppe Nürnberg.
URL:https://zendojostuttgart.de/event/zazentag-mit-zen-moench-konrad-tenkan-beck/
LOCATION:Ho Ryu Zen-Dojo Stuttgart\, Silberburgstr. 62a - Rückgebäude\, Stuttgart\, Baden-Württemberg\, 70176\, Deutschland
CATEGORIES:Meditation,Zazen,Zazen-Tag
END:VEVENT
END:VCALENDAR