BEGIN:VCALENDAR
VERSION:2.0
PRODID:-//Zen Meditation Stuttgart - ECPv6.15.20//NONSGML v1.0//EN
CALSCALE:GREGORIAN
METHOD:PUBLISH
X-ORIGINAL-URL:https://zendojostuttgart.de
X-WR-CALDESC:Veranstaltungen für Zen Meditation Stuttgart
REFRESH-INTERVAL;VALUE=DURATION:PT1H
X-Robots-Tag:noindex
X-PUBLISHED-TTL:PT1H
BEGIN:VTIMEZONE
TZID:Europe/Berlin
BEGIN:DAYLIGHT
TZOFFSETFROM:+0100
TZOFFSETTO:+0200
TZNAME:CEST
DTSTART:20250330T010000
END:DAYLIGHT
BEGIN:STANDARD
TZOFFSETFROM:+0200
TZOFFSETTO:+0100
TZNAME:CET
DTSTART:20251026T010000
END:STANDARD
BEGIN:DAYLIGHT
TZOFFSETFROM:+0100
TZOFFSETTO:+0200
TZNAME:CEST
DTSTART:20260329T010000
END:DAYLIGHT
BEGIN:STANDARD
TZOFFSETFROM:+0200
TZOFFSETTO:+0100
TZNAME:CET
DTSTART:20261025T010000
END:STANDARD
BEGIN:DAYLIGHT
TZOFFSETFROM:+0100
TZOFFSETTO:+0200
TZNAME:CEST
DTSTART:20270328T010000
END:DAYLIGHT
BEGIN:STANDARD
TZOFFSETFROM:+0200
TZOFFSETTO:+0100
TZNAME:CET
DTSTART:20271031T010000
END:STANDARD
END:VTIMEZONE
BEGIN:VEVENT
DTSTART;TZID=Europe/Berlin:20260206T173000
DTEND;TZID=Europe/Berlin:20260206T183000
DTSTAMP:20260424T181027
CREATED:20251115T061321Z
LAST-MODIFIED:20251115T061321Z
UID:3304-1770399000-1770402600@zendojostuttgart.de
SUMMARY:Einführung in Zazen
DESCRIPTION:Regelmäßig jeden Monat am ersten Freitag finden praktische Einführungen statt. Besondere Vorkenntnisse sind nicht erforderlich. Bitte dunkle\, bequeme Kleidung mitbringen. Nach der Einführung besteht die Möglichkeit am regulären Zazen teilzunehmen.
URL:https://zendojostuttgart.de/event/einfuehrung-in-zazen-190/
LOCATION:Ho Ryu Zen-Dojo Stuttgart\, Silberburgstr. 62a - Rückgebäude\, Stuttgart\, Baden-Württemberg\, 70176\, Deutschland
CATEGORIES:Zazen-Einführung
END:VEVENT
END:VCALENDAR